BEGIN:VCALENDAR
VERSION:2.0
PRODID:-//Kraften i Finspång - ECPv6.15.18//NONSGML v1.0//EN
CALSCALE:GREGORIAN
METHOD:PUBLISH
X-WR-CALNAME:Kraften i Finspång
X-ORIGINAL-URL:https://kraftenifinspang.se
X-WR-CALDESC:Händelser för Kraften i Finspång
REFRESH-INTERVAL;VALUE=DURATION:PT1H
X-Robots-Tag:noindex
X-PUBLISHED-TTL:PT1H
BEGIN:VTIMEZONE
TZID:Europe/Stockholm
BEGIN:DAYLIGHT
TZOFFSETFROM:+0100
TZOFFSETTO:+0200
TZNAME:CEST
DTSTART:20240331T010000
END:DAYLIGHT
BEGIN:STANDARD
TZOFFSETFROM:+0200
TZOFFSETTO:+0100
TZNAME:CET
DTSTART:20241027T010000
END:STANDARD
BEGIN:DAYLIGHT
TZOFFSETFROM:+0100
TZOFFSETTO:+0200
TZNAME:CEST
DTSTART:20250330T010000
END:DAYLIGHT
BEGIN:STANDARD
TZOFFSETFROM:+0200
TZOFFSETTO:+0100
TZNAME:CET
DTSTART:20251026T010000
END:STANDARD
BEGIN:DAYLIGHT
TZOFFSETFROM:+0100
TZOFFSETTO:+0200
TZNAME:CEST
DTSTART:20260329T010000
END:DAYLIGHT
BEGIN:STANDARD
TZOFFSETFROM:+0200
TZOFFSETTO:+0100
TZNAME:CET
DTSTART:20261025T010000
END:STANDARD
END:VTIMEZONE
BEGIN:VEVENT
DTSTART;TZID=Europe/Stockholm:20251123T110000
DTEND;TZID=Europe/Stockholm:20251123T150000
DTSTAMP:20260419T214153
CREATED:20251120T154501Z
LAST-MODIFIED:20251120T154501Z
UID:10001199-1763895600-1763910000@kraftenifinspang.se
SUMMARY:Julmarknad
DESCRIPTION:Årets mysigaste julmarknad på logen hos WALLMOKRANS! \nFre 21/11 kl 14-18\nlör 22/11 kl 11-15\nsön 23/11 kl 11-15 \nDuktiga hantverkare alla dagarna. Café\, Butik och Blommor. Som vanligt bjuder vi på varm kaneldricka.
URL:https://kraftenifinspang.se/evenemang/julmarknad/2025-11-23/
LOCATION:Wallmokrans gårdsbutik & café\, Djuckerö 10\, Ljusfallshammar\, 61273
CATEGORIES:Kraften i Finspång
ATTACH;FMTTYPE=image/jpeg:https://kraftenifinspang.se/wp-content/uploads/2025/11/691eec5052219.jpeg
ORGANIZER;CN="Wallmokrans":MAILTO:wallmokrans@gmail.com
END:VEVENT
BEGIN:VEVENT
DTSTART;TZID=Europe/Stockholm:20251122T110000
DTEND;TZID=Europe/Stockholm:20251122T150000
DTSTAMP:20260419T214153
CREATED:20251120T154501Z
LAST-MODIFIED:20251120T154501Z
UID:10001198-1763809200-1763823600@kraftenifinspang.se
SUMMARY:Julmarknad
DESCRIPTION:Årets mysigaste julmarknad på logen hos WALLMOKRANS! \nFre 21/11 kl 14-18\nlör 22/11 kl 11-15\nsön 23/11 kl 11-15 \nDuktiga hantverkare alla dagarna. Café\, Butik och Blommor. Som vanligt bjuder vi på varm kaneldricka.
URL:https://kraftenifinspang.se/evenemang/julmarknad/2025-11-22/
LOCATION:Wallmokrans gårdsbutik & café\, Djuckerö 10\, Ljusfallshammar\, 61273
CATEGORIES:Kraften i Finspång
ATTACH;FMTTYPE=image/jpeg:https://kraftenifinspang.se/wp-content/uploads/2025/11/691eec5052219.jpeg
ORGANIZER;CN="Wallmokrans":MAILTO:wallmokrans@gmail.com
END:VEVENT
BEGIN:VEVENT
DTSTART;TZID=Europe/Stockholm:20251121T140000
DTEND;TZID=Europe/Stockholm:20251121T180000
DTSTAMP:20260419T214153
CREATED:20251120T154501Z
LAST-MODIFIED:20251120T154501Z
UID:10001197-1763733600-1763748000@kraftenifinspang.se
SUMMARY:Julmarknad
DESCRIPTION:Årets mysigaste julmarknad på logen hos WALLMOKRANS! \nFre 21/11 kl 14-18\nlör 22/11 kl 11-15\nsön 23/11 kl 11-15 \nDuktiga hantverkare alla dagarna. Café\, Butik och Blommor. Som vanligt bjuder vi på varm kaneldricka.
URL:https://kraftenifinspang.se/evenemang/julmarknad/2025-11-21/
LOCATION:Wallmokrans gårdsbutik & café\, Djuckerö 10\, Ljusfallshammar\, 61273
CATEGORIES:Kraften i Finspång
ATTACH;FMTTYPE=image/jpeg:https://kraftenifinspang.se/wp-content/uploads/2025/11/691eec5052219.jpeg
ORGANIZER;CN="Wallmokrans":MAILTO:wallmokrans@gmail.com
END:VEVENT
END:VCALENDAR