BEGIN:VCALENDAR
VERSION:2.0
PRODID:-//Kraften i Finspång - ECPv6.15.18//NONSGML v1.0//EN
CALSCALE:GREGORIAN
METHOD:PUBLISH
X-ORIGINAL-URL:https://kraftenifinspang.se
X-WR-CALDESC:Händelser för Kraften i Finspång
REFRESH-INTERVAL;VALUE=DURATION:PT1H
X-Robots-Tag:noindex
X-PUBLISHED-TTL:PT1H
BEGIN:VTIMEZONE
TZID:Europe/Stockholm
BEGIN:DAYLIGHT
TZOFFSETFROM:+0100
TZOFFSETTO:+0200
TZNAME:CEST
DTSTART:20240331T010000
END:DAYLIGHT
BEGIN:STANDARD
TZOFFSETFROM:+0200
TZOFFSETTO:+0100
TZNAME:CET
DTSTART:20241027T010000
END:STANDARD
BEGIN:DAYLIGHT
TZOFFSETFROM:+0100
TZOFFSETTO:+0200
TZNAME:CEST
DTSTART:20250330T010000
END:DAYLIGHT
BEGIN:STANDARD
TZOFFSETFROM:+0200
TZOFFSETTO:+0100
TZNAME:CET
DTSTART:20251026T010000
END:STANDARD
BEGIN:DAYLIGHT
TZOFFSETFROM:+0100
TZOFFSETTO:+0200
TZNAME:CEST
DTSTART:20260329T010000
END:DAYLIGHT
BEGIN:STANDARD
TZOFFSETFROM:+0200
TZOFFSETTO:+0100
TZNAME:CET
DTSTART:20261025T010000
END:STANDARD
BEGIN:DAYLIGHT
TZOFFSETFROM:+0100
TZOFFSETTO:+0200
TZNAME:CEST
DTSTART:20270328T010000
END:DAYLIGHT
BEGIN:STANDARD
TZOFFSETFROM:+0200
TZOFFSETTO:+0100
TZNAME:CET
DTSTART:20271031T010000
END:STANDARD
END:VTIMEZONE
BEGIN:VEVENT
DTSTART;TZID=Europe/Stockholm:20260409T093000
DTEND;TZID=Europe/Stockholm:20260409T094529
DTSTAMP:20260419T153137
CREATED:20260320T075505Z
LAST-MODIFIED:20260320T084529Z
UID:10001501-1775727000-1775727929@kraftenifinspang.se
SUMMARY:Torsdagspromenaden för seniorer
DESCRIPTION:Promenad\, snicksnack och enklare fika. \nVi samlas vid stora entrén på Högby seniorboende torsdagar kl. 09.30 med start den 2/4 och går en promenad tillsammans\, vi erbjuder fika och social samvaro efteråt.\nGäller datumen 2/4\, 9/4\, 16/4\, 23/4\, 30/4\, 7/5 och 21/5 \nArrangör; Träffpunkt Ankaret på Högby seniorboende i samarbete med frivilligcenter\, Finspångs kommun. \nVarmt välkomna med oss ut på promenad! \nKostnadsfritt. Fika till självkostnadspris erbjuds efter promenaden.
URL:https://kraftenifinspang.se/evenemang/torsdagspromenaden-for-seniorer/2026-04-09/
LOCATION:Högby seniorboende\, Per Hörbergs väg 4\, Finspång\, 612 30
CATEGORIES:Kraften i Finspång
ATTACH;FMTTYPE=image/jpeg:https://kraftenifinspang.se/wp-content/uploads/2026/03/69bbfa2e82edf-e1773993284177.jpg
ORGANIZER;CN="Tr%C3%A4ffpunkten Ankaret":MAILTO:frivilligcenter@finspang.se
END:VEVENT
BEGIN:VEVENT
DTSTART;TZID=Europe/Stockholm:20260402T093000
DTEND;TZID=Europe/Stockholm:20260402T093000
DTSTAMP:20260419T153137
CREATED:20260320T075505Z
LAST-MODIFIED:20260320T084529Z
UID:10001443-1775122200-1775122200@kraftenifinspang.se
SUMMARY:Torsdagspromenaden för seniorer
DESCRIPTION:Promenad\, snicksnack och enklare fika. \nVi samlas vid stora entrén på Högby seniorboende torsdagar kl. 09.30 med start den 2/4 och går en promenad tillsammans\, vi erbjuder fika och social samvaro efteråt.\nGäller datumen 2/4\, 9/4\, 16/4\, 23/4\, 30/4\, 7/5 och 21/5 \nArrangör; Träffpunkt Ankaret på Högby seniorboende i samarbete med frivilligcenter\, Finspångs kommun. \nVarmt välkomna med oss ut på promenad! \nKostnadsfritt. Fika till självkostnadspris erbjuds efter promenaden.
URL:https://kraftenifinspang.se/evenemang/torsdagspromenaden-for-seniorer/2026-04-02/
LOCATION:Högby seniorboende\, Per Hörbergs väg 4\, Finspång\, 612 30
CATEGORIES:Kraften i Finspång
ATTACH;FMTTYPE=image/jpeg:https://kraftenifinspang.se/wp-content/uploads/2026/03/69bbfa2e82edf-e1773993284177.jpg
ORGANIZER;CN="Tr%C3%A4ffpunkten Ankaret":MAILTO:frivilligcenter@finspang.se
END:VEVENT
BEGIN:VEVENT
DTSTART;TZID=Europe/Stockholm:20250327T093000
DTEND;TZID=Europe/Stockholm:20250327T110000
DTSTAMP:20260419T153137
CREATED:20250307T130231Z
LAST-MODIFIED:20250307T130425Z
UID:10000757-1743067800-1743073200@kraftenifinspang.se
SUMMARY:Promenadgrupp för seniorer
DESCRIPTION:Promenad\, gemenskap och enklare fika. \nTorsdagen den 27 mars startar promenadgrupperna på träffpunkt Ankaret på Högby seniorboende i samarbete med frivilligcentralen. En längre sträcka och en kortare sträcka i lugnare tempo. Vi samlas vid stora entrén kl; 09.30. \nKostnadsfritt. Fika till självkostnadspris. \nVarmt välkommen!
URL:https://kraftenifinspang.se/evenemang/promenadgrupp-for-seniorer/
LOCATION:Högby seniorboende\, Per Hörbergs väg 4\, Finspång\, 612 30
CATEGORIES:Kraften i Finspång
ATTACH;FMTTYPE=image/jpeg:https://kraftenifinspang.se/wp-content/uploads/2025/03/67cae3bb4bd42.jpg
ORGANIZER;CN="Frivilligcentralen%2C Finsp%C3%A5ngs kommun":MAILTO:frivilligcenter@finspang.se
END:VEVENT
END:VCALENDAR