BEGIN:VCALENDAR
VERSION:2.0
PRODID:-//Kraften i Finspång - ECPv6.15.18//NONSGML v1.0//EN
CALSCALE:GREGORIAN
METHOD:PUBLISH
X-WR-CALNAME:Kraften i Finspång
X-ORIGINAL-URL:https://kraftenifinspang.se
X-WR-CALDESC:Händelser för Kraften i Finspång
REFRESH-INTERVAL;VALUE=DURATION:PT1H
X-Robots-Tag:noindex
X-PUBLISHED-TTL:PT1H
BEGIN:VTIMEZONE
TZID:Europe/Stockholm
BEGIN:DAYLIGHT
TZOFFSETFROM:+0100
TZOFFSETTO:+0200
TZNAME:CEST
DTSTART:20250330T010000
END:DAYLIGHT
BEGIN:STANDARD
TZOFFSETFROM:+0200
TZOFFSETTO:+0100
TZNAME:CET
DTSTART:20251026T010000
END:STANDARD
BEGIN:DAYLIGHT
TZOFFSETFROM:+0100
TZOFFSETTO:+0200
TZNAME:CEST
DTSTART:20260329T010000
END:DAYLIGHT
BEGIN:STANDARD
TZOFFSETFROM:+0200
TZOFFSETTO:+0100
TZNAME:CET
DTSTART:20261025T010000
END:STANDARD
BEGIN:DAYLIGHT
TZOFFSETFROM:+0100
TZOFFSETTO:+0200
TZNAME:CEST
DTSTART:20270328T010000
END:DAYLIGHT
BEGIN:STANDARD
TZOFFSETFROM:+0200
TZOFFSETTO:+0100
TZNAME:CET
DTSTART:20271031T010000
END:STANDARD
END:VTIMEZONE
BEGIN:VEVENT
DTSTART;TZID=Europe/Stockholm:20260430T184500
DTEND;TZID=Europe/Stockholm:20260430T184500
DTSTAMP:20260420T150601
CREATED:20260420T065540Z
LAST-MODIFIED:20260420T065556Z
UID:10001540-1777574700-1777574700@kraftenifinspang.se
SUMMARY:Valborgsmässofirande i Slottsparken
DESCRIPTION:Traditionsenligt Valborgsmässofirande i Slottsparken Finspång med kanonsalut och musikunderhållning
URL:https://kraftenifinspang.se/evenemang/valborgsmassofirande-i-slottsparken/
LOCATION:Slottsparken\, Slottsvägen\, Finspång\, 61230
CATEGORIES:Kraften i Finspång
ATTACH;FMTTYPE=image/jpeg:https://kraftenifinspang.se/wp-content/uploads/2026/04/69e47197b194e-1.jpg
END:VEVENT
END:VCALENDAR