BEGIN:VCALENDAR
VERSION:2.0
PRODID:-//Kraften i Finspång - ECPv6.15.20//NONSGML v1.0//EN
CALSCALE:GREGORIAN
METHOD:PUBLISH
X-ORIGINAL-URL:https://kraftenifinspang.se
X-WR-CALDESC:Händelser för Kraften i Finspång
REFRESH-INTERVAL;VALUE=DURATION:PT1H
X-Robots-Tag:noindex
X-PUBLISHED-TTL:PT1H
BEGIN:VTIMEZONE
TZID:Europe/Stockholm
BEGIN:DAYLIGHT
TZOFFSETFROM:+0100
TZOFFSETTO:+0200
TZNAME:CEST
DTSTART:20250330T010000
END:DAYLIGHT
BEGIN:STANDARD
TZOFFSETFROM:+0200
TZOFFSETTO:+0100
TZNAME:CET
DTSTART:20251026T010000
END:STANDARD
BEGIN:DAYLIGHT
TZOFFSETFROM:+0100
TZOFFSETTO:+0200
TZNAME:CEST
DTSTART:20260329T010000
END:DAYLIGHT
BEGIN:STANDARD
TZOFFSETFROM:+0200
TZOFFSETTO:+0100
TZNAME:CET
DTSTART:20261025T010000
END:STANDARD
BEGIN:DAYLIGHT
TZOFFSETFROM:+0100
TZOFFSETTO:+0200
TZNAME:CEST
DTSTART:20270328T010000
END:DAYLIGHT
BEGIN:STANDARD
TZOFFSETFROM:+0200
TZOFFSETTO:+0100
TZNAME:CET
DTSTART:20271031T010000
END:STANDARD
END:VTIMEZONE
BEGIN:VEVENT
DTSTART;TZID=Europe/Stockholm:20260529T100000
DTEND;TZID=Europe/Stockholm:20260529T160000
DTSTAMP:20260425T201410
CREATED:20260421T072910Z
LAST-MODIFIED:20260421T072910Z
UID:10001541-1780048800-1780070400@kraftenifinspang.se
SUMMARY:ÖPPET HUS - Välkommen till Röda Korsets nya mötesplats i Finspång!
DESCRIPTION:Fredagen den 29 maj kl.10-16 öppnar vi dörrarna till Röda Korsets nya lokal i Finspång (f.d. Pressbyrån) – mitt under Finsponga Marken! \nPå Bergslagstorget hittar du vårt marknadsbord. Köp en lott & vinn fina priser som du hämtar ut i lokalen. \nÖppet Hus i den nya lokalen – se våra verksamheter\, prata med volontärer & få mer information om hur Röda Korset gör skillnad lokalt. \n• Krisberedskap\n• Hjärt-och lungräddning (HLR)\n• Besöksverksamhet\n• Lokala initiativ i Finspångs kommun \nHar du funderat på att jobba ideellt – men vet inte riktigt hur? \nTa en paus hos oss och få tips om hur du kan engagera dig. \nVarmt välkommen!
URL:https://kraftenifinspang.se/evenemang/oppet-hus-valkommen-till-roda-korsets-nya-motesplats-i-finspang/
LOCATION:Röda Korset\, Vallonvägen 8 (f.d. Pressbyrån)\, Finspång\, 61230
CATEGORIES:Kraften i Finspång
ATTACH;FMTTYPE=image/jpeg:https://kraftenifinspang.se/wp-content/uploads/2026/04/69e66b01e635b.jpg
END:VEVENT
END:VCALENDAR