BEGIN:VCALENDAR
VERSION:2.0
PRODID:-//Kraften i Finspång - ECPv6.15.18//NONSGML v1.0//EN
CALSCALE:GREGORIAN
METHOD:PUBLISH
X-WR-CALNAME:Kraften i Finspång
X-ORIGINAL-URL:https://kraftenifinspang.se
X-WR-CALDESC:Händelser för Kraften i Finspång
REFRESH-INTERVAL;VALUE=DURATION:PT1H
X-Robots-Tag:noindex
X-PUBLISHED-TTL:PT1H
BEGIN:VTIMEZONE
TZID:Europe/Stockholm
BEGIN:DAYLIGHT
TZOFFSETFROM:+0100
TZOFFSETTO:+0200
TZNAME:CEST
DTSTART:20250330T010000
END:DAYLIGHT
BEGIN:STANDARD
TZOFFSETFROM:+0200
TZOFFSETTO:+0100
TZNAME:CET
DTSTART:20251026T010000
END:STANDARD
BEGIN:DAYLIGHT
TZOFFSETFROM:+0100
TZOFFSETTO:+0200
TZNAME:CEST
DTSTART:20260329T010000
END:DAYLIGHT
BEGIN:STANDARD
TZOFFSETFROM:+0200
TZOFFSETTO:+0100
TZNAME:CET
DTSTART:20261025T010000
END:STANDARD
BEGIN:DAYLIGHT
TZOFFSETFROM:+0100
TZOFFSETTO:+0200
TZNAME:CEST
DTSTART:20270328T010000
END:DAYLIGHT
BEGIN:STANDARD
TZOFFSETFROM:+0200
TZOFFSETTO:+0100
TZNAME:CET
DTSTART:20271031T010000
END:STANDARD
END:VTIMEZONE
BEGIN:VEVENT
DTSTART;TZID=Europe/Stockholm:20260425T180000
DTEND;TZID=Europe/Stockholm:20260425T180000
DTSTAMP:20260420T130110
CREATED:20260213T092744Z
LAST-MODIFIED:20260213T092912Z
UID:10001364-1777140000-1777140000@kraftenifinspang.se
SUMMARY:Konsert med Soon Gospel
DESCRIPTION:Gillar du gospelmusik är det här en kväll för dig. Soon Gospel från Norrköping kommer och gästar Missionskyrkan.\nPrisinformation: Det är fri entré men det kommer samlas in en frivillig gåva under kvällen för att täcka omkostnaderna för arrangemanget.
URL:https://kraftenifinspang.se/evenemang/konsert-med-soon-gospel/
LOCATION:Missionskyrkan Finspång\, Slottsvägen 13\, Finspång\, 61231
CATEGORIES:Kraften i Finspång
ATTACH;FMTTYPE=image/jpeg:https://kraftenifinspang.se/wp-content/uploads/2026/02/698ee9302285d-e1770974860951.jpg
END:VEVENT
END:VCALENDAR