BEGIN:VCALENDAR
VERSION:2.0
PRODID:-//Kraften i Finspång - ECPv6.15.18//NONSGML v1.0//EN
CALSCALE:GREGORIAN
METHOD:PUBLISH
X-WR-CALNAME:Kraften i Finspång
X-ORIGINAL-URL:https://kraftenifinspang.se
X-WR-CALDESC:Händelser för Kraften i Finspång
REFRESH-INTERVAL;VALUE=DURATION:PT1H
X-Robots-Tag:noindex
X-PUBLISHED-TTL:PT1H
BEGIN:VTIMEZONE
TZID:Europe/Stockholm
BEGIN:DAYLIGHT
TZOFFSETFROM:+0100
TZOFFSETTO:+0200
TZNAME:CEST
DTSTART:20240331T010000
END:DAYLIGHT
BEGIN:STANDARD
TZOFFSETFROM:+0200
TZOFFSETTO:+0100
TZNAME:CET
DTSTART:20241027T010000
END:STANDARD
BEGIN:DAYLIGHT
TZOFFSETFROM:+0100
TZOFFSETTO:+0200
TZNAME:CEST
DTSTART:20250330T010000
END:DAYLIGHT
BEGIN:STANDARD
TZOFFSETFROM:+0200
TZOFFSETTO:+0100
TZNAME:CET
DTSTART:20251026T010000
END:STANDARD
BEGIN:DAYLIGHT
TZOFFSETFROM:+0100
TZOFFSETTO:+0200
TZNAME:CEST
DTSTART:20260329T010000
END:DAYLIGHT
BEGIN:STANDARD
TZOFFSETFROM:+0200
TZOFFSETTO:+0100
TZNAME:CET
DTSTART:20261025T010000
END:STANDARD
BEGIN:DAYLIGHT
TZOFFSETFROM:+0100
TZOFFSETTO:+0200
TZNAME:CEST
DTSTART:20270328T010000
END:DAYLIGHT
BEGIN:STANDARD
TZOFFSETFROM:+0200
TZOFFSETTO:+0100
TZNAME:CET
DTSTART:20271031T010000
END:STANDARD
END:VTIMEZONE
BEGIN:VEVENT
DTSTART;TZID=Europe/Stockholm:20260414T160000
DTEND;TZID=Europe/Stockholm:20260414T160000
DTSTAMP:20260420T142218
CREATED:20260112T065224Z
LAST-MODIFIED:20260112T065307Z
UID:10001268-1776182400-1776182400@kraftenifinspang.se
SUMMARY:Afternoon tea
DESCRIPTION:Jörgen Mulligan kåserar om ”Mitt liv på teatern” \nPris: 60 kronor inkl. afternoon tea
URL:https://kraftenifinspang.se/evenemang/afternoon-tea-7/
LOCATION:Hällestads församlingshem\, Örebrovägen 242\, Hällestad
CATEGORIES:Kraften i Finspång
ATTACH;FMTTYPE=image/jpeg:https://kraftenifinspang.se/wp-content/uploads/2026/01/6963a2274766b.jpg
END:VEVENT
BEGIN:VEVENT
DTSTART;TZID=Europe/Stockholm:20260310T160000
DTEND;TZID=Europe/Stockholm:20260310T160000
DTSTAMP:20260420T142218
CREATED:20260112T065025Z
LAST-MODIFIED:20260112T065337Z
UID:10001269-1773158400-1773158400@kraftenifinspang.se
SUMMARY:Afternoon tea
DESCRIPTION:Mats Willner kåserar ”40 år på NT och nya år på IFK” \nPris: 60 kronor inkl. afternoon tea
URL:https://kraftenifinspang.se/evenemang/afternoon-tea-6/
LOCATION:Hällestads församlingshem\, Örebrovägen 242\, Hällestad
CATEGORIES:Kraften i Finspång
ATTACH;FMTTYPE=image/jpeg:https://kraftenifinspang.se/wp-content/uploads/2026/01/6963a2274766b.jpg
END:VEVENT
BEGIN:VEVENT
DTSTART;TZID=Europe/Stockholm:20260210T160000
DTEND;TZID=Europe/Stockholm:20260210T160000
DTSTAMP:20260420T142218
CREATED:20260112T064739Z
LAST-MODIFIED:20260112T064810Z
UID:10001267-1770739200-1770739200@kraftenifinspang.se
SUMMARY:Afternoon tea
DESCRIPTION:Johan Tell och Ann-Britt Wrenner Visar bilder och berättar om kyrkorna i Finspångs församling.\nBoken om kyrkorna kommer att säljas. \nPris: 60 kronor inkl. ”afternoon tea”
URL:https://kraftenifinspang.se/evenemang/afternoon-tea-5/
LOCATION:Hällestads församlingshem\, Örebrovägen 242\, Hällestad
CATEGORIES:Kraften i Finspång
ATTACH;FMTTYPE=image/jpeg:https://kraftenifinspang.se/wp-content/uploads/2026/01/6963a2274766b.jpg
END:VEVENT
BEGIN:VEVENT
DTSTART;TZID=Europe/Stockholm:20260203T190000
DTEND;TZID=Europe/Stockholm:20260203T190000
DTSTAMP:20260420T142218
CREATED:20260112T111146Z
LAST-MODIFIED:20260112T111325Z
UID:10001288-1770145200-1770145200@kraftenifinspang.se
SUMMARY:Musikcafé
DESCRIPTION:Musikcafé med FRAZZEs BAND\n”Elvis och andra Rock´n Rollare” \nPris: 100 kronor inkl. fika
URL:https://kraftenifinspang.se/evenemang/musikcafe-2/
LOCATION:Hällestads församlingshem\, Örebrovägen 242\, Hällestad
CATEGORIES:Kraften i Finspång
ATTACH;FMTTYPE=image/jpeg:https://kraftenifinspang.se/wp-content/uploads/2026/01/6964cbf3e1479.jpg
END:VEVENT
BEGIN:VEVENT
DTSTART;TZID=Europe/Stockholm:20251202T160000
DTEND;TZID=Europe/Stockholm:20251202T160000
DTSTAMP:20260420T142218
CREATED:20250912T185414Z
LAST-MODIFIED:20250912T185524Z
UID:10001089-1764691200-1764691200@kraftenifinspang.se
SUMMARY:Afternoon tea
DESCRIPTION:Klara Hellström ”Vägen från Bergska till polis”\nPrisinformation: 60:- inkl. afternoon tea.
URL:https://kraftenifinspang.se/evenemang/afternoon-tea-3/
LOCATION:Hällestads församlingshem\, Örebrovägen 242\, Hällestad
CATEGORIES:Kraften i Finspång
ATTACH;FMTTYPE=image/jpeg:https://kraftenifinspang.se/wp-content/uploads/2025/09/68b40da4870ac.jpg
END:VEVENT
BEGIN:VEVENT
DTSTART;TZID=Europe/Stockholm:20251111T160000
DTEND;TZID=Europe/Stockholm:20251111T160000
DTSTAMP:20260420T142218
CREATED:20250912T185709Z
LAST-MODIFIED:20250912T185759Z
UID:10001090-1762876800-1762876800@kraftenifinspang.se
SUMMARY:Afternoon tea
DESCRIPTION:Föreläsning av Anders Olsson ”Begravningar\, tillbakablick och spaning”\nPrisinformation: 60.- inkl. ”afternoon tea”
URL:https://kraftenifinspang.se/evenemang/afternoon-tea-4/
LOCATION:Hällestads församlingshem\, Örebrovägen 242\, Hällestad
CATEGORIES:Kraften i Finspång
ATTACH;FMTTYPE=image/jpeg:https://kraftenifinspang.se/wp-content/uploads/2025/09/68b40da4870ac.jpg
END:VEVENT
BEGIN:VEVENT
DTSTART;TZID=Europe/Stockholm:20251014T160000
DTEND;TZID=Europe/Stockholm:20251014T160000
DTSTAMP:20260420T142218
CREATED:20250902T055314Z
LAST-MODIFIED:20250902T060414Z
UID:10001074-1760457600-1760457600@kraftenifinspang.se
SUMMARY:Afternoon tea
DESCRIPTION:Joakim och Dennis Lindberg berättar om sitt kanotliv ”Inte lika vilda som förr”\nPrisinformation: 60 kronor inkl. ”afternoon tea”
URL:https://kraftenifinspang.se/evenemang/afternoon-tea-2/
LOCATION:Hällestads församlingshem\, Örebrovägen 242\, Hällestad
CATEGORIES:Kraften i Finspång
ATTACH;FMTTYPE=image/jpeg:https://kraftenifinspang.se/wp-content/uploads/2025/09/68b40da4870ac.jpg
END:VEVENT
BEGIN:VEVENT
DTSTART;TZID=Europe/Stockholm:20251007T190000
DTEND;TZID=Europe/Stockholm:20251007T190000
DTSTAMP:20260420T142218
CREATED:20251002T130410Z
LAST-MODIFIED:20251002T130458Z
UID:10001127-1759863600-1759863600@kraftenifinspang.se
SUMMARY:Musikcafé
DESCRIPTION:Henrik ”Hummel” Schön spelar och berättar om sitt ovanliga instrument. \nPrisinformation: 100 kronor inkl. kaffe och smörgås
URL:https://kraftenifinspang.se/evenemang/musikcafe/
LOCATION:Hällestads församlingshem\, Örebrovägen 242\, Hällestad
CATEGORIES:Kraften i Finspång
ATTACH;FMTTYPE=image/jpeg:https://kraftenifinspang.se/wp-content/uploads/2025/10/68dd242216508.jpg
END:VEVENT
BEGIN:VEVENT
DTSTART;TZID=Europe/Stockholm:20250408T160000
DTEND;TZID=Europe/Stockholm:20250408T170000
DTSTAMP:20260420T142218
CREATED:20250120T062659Z
LAST-MODIFIED:20250120T062659Z
UID:10000645-1744128000-1744131600@kraftenifinspang.se
SUMMARY:Afternoon tea i Hällestad
DESCRIPTION:Emelie Hagstedt berättar om ”En fastighetsmäklares vardag”.
URL:https://kraftenifinspang.se/evenemang/afternoon-tea-i-hallestad/
LOCATION:Hällestads församlingshem\, Örebrovägen 242\, Hällestad
CATEGORIES:Kraften i Finspång
ATTACH;FMTTYPE=image/jpeg:https://kraftenifinspang.se/wp-content/uploads/2025/01/678ba2801c5b8.jpg
END:VEVENT
BEGIN:VEVENT
DTSTART;TZID=Europe/Stockholm:20250311T160000
DTEND;TZID=Europe/Stockholm:20250311T170000
DTSTAMP:20260420T142218
CREATED:20250120T063605Z
LAST-MODIFIED:20250121T080853Z
UID:10000646-1741708800-1741712400@kraftenifinspang.se
SUMMARY:Afternoon tea i Hällestad
DESCRIPTION:Johan Sundberg berättar på temat ”Gårdarna i Ås och Rökslid – från 1600-tal till idag”.
URL:https://kraftenifinspang.se/evenemang/afternon-tea-i-hallestad/
LOCATION:Hällestads församlingshem\, Örebrovägen 242\, Hällestad
CATEGORIES:Kraften i Finspång
ATTACH;FMTTYPE=image/jpeg:https://kraftenifinspang.se/wp-content/uploads/2025/01/678ba2801c5b8.jpg
END:VEVENT
BEGIN:VEVENT
DTSTART;TZID=Europe/Stockholm:20250211T183000
DTEND;TZID=Europe/Stockholm:20250211T203000
DTSTAMP:20260420T142218
CREATED:20241218T062150Z
LAST-MODIFIED:20241218T062419Z
UID:10000588-1739298600-1739305800@kraftenifinspang.se
SUMMARY:En berättelse om vår bergslag och malmens betydelse
DESCRIPTION:Arkeolog Olle Hörfors som forskat och skrivit om vår bergslag.\nHällestads hembygdsförening bjuder på fika. \nGratis men anmälan till: Sven Erik Pettersson 0702180189 \nArrangör: Naturskyddsföreningen i samarbete med Hällestads Hembygdsförening
URL:https://kraftenifinspang.se/evenemang/arkeolog-olle-horfors-berattar/
LOCATION:Hällestads församlingshem\, Örebrovägen 242\, Hällestad
CATEGORIES:Kraften i Finspång
ATTACH;FMTTYPE=image/jpeg:https://kraftenifinspang.se/wp-content/uploads/2024/12/6761dd172022b.jpg
END:VEVENT
BEGIN:VEVENT
DTSTART;TZID=Europe/Stockholm:20250211T160000
DTEND;TZID=Europe/Stockholm:20250211T170000
DTSTAMP:20260420T142218
CREATED:20250120T063803Z
LAST-MODIFIED:20250120T063803Z
UID:10000647-1739289600-1739293200@kraftenifinspang.se
SUMMARY:Afternoon tea i Hällestad
DESCRIPTION:Skådespelaren och estradören Jörgen Mulligan kåserar.
URL:https://kraftenifinspang.se/evenemang/afternoon-tea-i-hallestad-2/
LOCATION:Hällestads församlingshem\, Örebrovägen 242\, Hällestad
CATEGORIES:Kraften i Finspång
ATTACH;FMTTYPE=image/jpeg:https://kraftenifinspang.se/wp-content/uploads/2025/01/678ba2801c5b8.jpg
END:VEVENT
BEGIN:VEVENT
DTSTART;TZID=Europe/Stockholm:20250204T190000
DTEND;TZID=Europe/Stockholm:20250204T190000
DTSTAMP:20260420T142218
CREATED:20250120T064041Z
LAST-MODIFIED:20250120T064152Z
UID:10000648-1738695600-1738695600@kraftenifinspang.se
SUMMARY:Musikcafé i Hällestad
DESCRIPTION:”Kända låtar för mogen publik” med Birgitta & Janne Frisk. \n100 kr inkl. fika.
URL:https://kraftenifinspang.se/evenemang/musikcafe-i-hallestad/
LOCATION:Hällestads församlingshem\, Örebrovägen 242\, Hällestad
CATEGORIES:Kraften i Finspång
ATTACH;FMTTYPE=image/jpeg:https://kraftenifinspang.se/wp-content/uploads/2025/01/678b9e082c996.jpg
END:VEVENT
END:VCALENDAR