BEGIN:VCALENDAR
VERSION:2.0
PRODID:-//Kraften i Finspång - ECPv6.15.18//NONSGML v1.0//EN
CALSCALE:GREGORIAN
METHOD:PUBLISH
X-WR-CALNAME:Kraften i Finspång
X-ORIGINAL-URL:https://kraftenifinspang.se
X-WR-CALDESC:Händelser för Kraften i Finspång
REFRESH-INTERVAL;VALUE=DURATION:PT1H
X-Robots-Tag:noindex
X-PUBLISHED-TTL:PT1H
BEGIN:VTIMEZONE
TZID:Europe/Stockholm
BEGIN:DAYLIGHT
TZOFFSETFROM:+0100
TZOFFSETTO:+0200
TZNAME:CEST
DTSTART:20240331T010000
END:DAYLIGHT
BEGIN:STANDARD
TZOFFSETFROM:+0200
TZOFFSETTO:+0100
TZNAME:CET
DTSTART:20241027T010000
END:STANDARD
BEGIN:DAYLIGHT
TZOFFSETFROM:+0100
TZOFFSETTO:+0200
TZNAME:CEST
DTSTART:20250330T010000
END:DAYLIGHT
BEGIN:STANDARD
TZOFFSETFROM:+0200
TZOFFSETTO:+0100
TZNAME:CET
DTSTART:20251026T010000
END:STANDARD
BEGIN:DAYLIGHT
TZOFFSETFROM:+0100
TZOFFSETTO:+0200
TZNAME:CEST
DTSTART:20260329T010000
END:DAYLIGHT
BEGIN:STANDARD
TZOFFSETFROM:+0200
TZOFFSETTO:+0100
TZNAME:CET
DTSTART:20261025T010000
END:STANDARD
END:VTIMEZONE
BEGIN:VEVENT
DTSTART;TZID=Europe/Stockholm:20250813T180000
DTEND;TZID=Europe/Stockholm:20250813T180000
DTSTAMP:20260420T024517
CREATED:20250805T105254Z
LAST-MODIFIED:20250805T105359Z
UID:10001020-1755108000-1755108000@kraftenifinspang.se
SUMMARY:GrönVitaRacet
DESCRIPTION:Välkommen på terrängloppet ”GrönVitaRacet” onsdagen den 13:e augusti.\nSamling vid utegymmet Grosvad.\nMed eller utan tidtagning.\nGemensam start 18:00.\nAnmälan på plats senast 17:45. Ingen avgift. \nKlasser: \nKlassiska Grön-vita: banan följer det grön-vita spåret markerat med grön-vita skyltar. Banan går på en kuperad trailstig och mäter 6\,5 km. \nKorta banan: 2\,4 km följer grön-vita spåret första halvan för att sedan följa grusvägarna ner mot starten. Det sitter skyltar i grusvägskorsen. \nKnattebanan: 300m äventyrlig kottebana. Info och resultat
URL:https://kraftenifinspang.se/evenemang/gronvitaracet-2/
LOCATION:Grosvad\, utegymmet
CATEGORIES:Kraften i Finspång
ATTACH;FMTTYPE=image/jpeg:https://kraftenifinspang.se/wp-content/uploads/2025/08/6891c99a3f4c8.jpeg
END:VEVENT
END:VCALENDAR