BEGIN:VCALENDAR
VERSION:2.0
PRODID:-//Kraften i Finspång - ECPv6.15.20//NONSGML v1.0//EN
CALSCALE:GREGORIAN
METHOD:PUBLISH
X-ORIGINAL-URL:https://kraftenifinspang.se
X-WR-CALDESC:Händelser för Kraften i Finspång
REFRESH-INTERVAL;VALUE=DURATION:PT1H
X-Robots-Tag:noindex
X-PUBLISHED-TTL:PT1H
BEGIN:VTIMEZONE
TZID:Europe/Stockholm
BEGIN:DAYLIGHT
TZOFFSETFROM:+0100
TZOFFSETTO:+0200
TZNAME:CEST
DTSTART:20230326T010000
END:DAYLIGHT
BEGIN:STANDARD
TZOFFSETFROM:+0200
TZOFFSETTO:+0100
TZNAME:CET
DTSTART:20231029T010000
END:STANDARD
BEGIN:DAYLIGHT
TZOFFSETFROM:+0100
TZOFFSETTO:+0200
TZNAME:CEST
DTSTART:20240331T010000
END:DAYLIGHT
BEGIN:STANDARD
TZOFFSETFROM:+0200
TZOFFSETTO:+0100
TZNAME:CET
DTSTART:20241027T010000
END:STANDARD
BEGIN:DAYLIGHT
TZOFFSETFROM:+0100
TZOFFSETTO:+0200
TZNAME:CEST
DTSTART:20250330T010000
END:DAYLIGHT
BEGIN:STANDARD
TZOFFSETFROM:+0200
TZOFFSETTO:+0100
TZNAME:CET
DTSTART:20251026T010000
END:STANDARD
BEGIN:DAYLIGHT
TZOFFSETFROM:+0100
TZOFFSETTO:+0200
TZNAME:CEST
DTSTART:20260329T010000
END:DAYLIGHT
BEGIN:STANDARD
TZOFFSETFROM:+0200
TZOFFSETTO:+0100
TZNAME:CET
DTSTART:20261025T010000
END:STANDARD
END:VTIMEZONE
BEGIN:VEVENT
DTSTART;TZID=Europe/Stockholm:20250906T130000
DTEND;TZID=Europe/Stockholm:20250906T160000
DTSTAMP:20260425T200310
CREATED:20250727T193133Z
LAST-MODIFIED:20250820T131240Z
UID:10001010-1757163600-1757174400@kraftenifinspang.se
SUMMARY:Prideparad och festival
DESCRIPTION:Välkomna till Finspångs färgsprakande Prideparad och festival 2025! Festivalen drar igång med underhållning av dragduon Drag under galoscherna. \nKl. 13.40 ställer vi upp för paraden som avgår kl. 14.00. \nParaden leds även i år av slagverksgruppen Baqueta Rrriot. Efter paraden fortsätter festivalen med underhållning och tal. \nPrisinformation: Kostnadsfritt. \nLäs mer på Pride Finspångs hemsida.
URL:https://kraftenifinspang.se/evenemang/prideparad-och-festival/
LOCATION:Förvaltningstorget\, Bergslagsvägen 13\, Finspång\, 61230
CATEGORIES:Kraften i Finspång
ATTACH;FMTTYPE=image/webp:https://kraftenifinspang.se/wp-content/uploads/2025/07/pride-2025.webp
ORGANIZER;CN="Pride Finsp%C3%A5ng":MAILTO:pridefinspang@gmail.com
END:VEVENT
BEGIN:VEVENT
DTSTART;TZID=Europe/Stockholm:20250530T130000
DTEND;TZID=Europe/Stockholm:20250530T133000
DTSTAMP:20260425T200310
CREATED:20250515T075117Z
LAST-MODIFIED:20250515T075402Z
UID:10000916-1748610000-1748611800@kraftenifinspang.se
SUMMARY:Grodorna - under Finspångs stadsfest
DESCRIPTION:Grodorna är en pop-up-föreställning som utforskar tillhörighet\, dans- och musikstilar och betydelsen av vänskap. Två grodor i grå kavaj interagerar nyfiket och inbjudande med platsen\, med människorna som är där och med varandra. En gemensam dans med publiken avslutar föreställningen och varje framträdande blir helt unikt! \nNu dyker de upp under två tillfällen under Finspångs stadsfest!\nI samarbete med Lions Finspång! \n30 maj 11:00 & 13:00\nFri entré! \nDessutom på Förvaltningstorget: \n14:00-16:00                                Don Feri skapar ballongdjur åt alla barn! (Gratis!)\n14:00-16:00                                 Ansiktsmålning för alla barn! (Gratis!)\n14:00-16:00                                 Norrköpings Cirkus och Varietés cirkusartister minglar på området!
URL:https://kraftenifinspang.se/evenemang/grodorna-under-finspangs-stadsfest/2025-05-30/2/
LOCATION:Förvaltningstorget\, Bergslagsvägen 13\, Finspång\, 61230
CATEGORIES:Kraften i Finspång
ATTACH;FMTTYPE=image/jpeg:https://kraftenifinspang.se/wp-content/uploads/2025/05/Grodorna-scaled.jpg
ORGANIZER;CN="Kulturhuset Finsp%C3%A5ng":MAILTO:karolina.bransell@finspang.se
END:VEVENT
BEGIN:VEVENT
DTSTART;TZID=Europe/Stockholm:20250530T110000
DTEND;TZID=Europe/Stockholm:20250530T113000
DTSTAMP:20260425T200310
CREATED:20250515T075117Z
LAST-MODIFIED:20250515T075402Z
UID:10000915-1748602800-1748604600@kraftenifinspang.se
SUMMARY:Grodorna - under Finspångs stadsfest
DESCRIPTION:Grodorna är en pop-up-föreställning som utforskar tillhörighet\, dans- och musikstilar och betydelsen av vänskap. Två grodor i grå kavaj interagerar nyfiket och inbjudande med platsen\, med människorna som är där och med varandra. En gemensam dans med publiken avslutar föreställningen och varje framträdande blir helt unikt! \nNu dyker de upp under två tillfällen under Finspångs stadsfest!\nI samarbete med Lions Finspång! \n30 maj 11:00 & 13:00\nFri entré! \nDessutom på Förvaltningstorget: \n14:00-16:00                                Don Feri skapar ballongdjur åt alla barn! (Gratis!)\n14:00-16:00                                 Ansiktsmålning för alla barn! (Gratis!)\n14:00-16:00                                 Norrköpings Cirkus och Varietés cirkusartister minglar på området!
URL:https://kraftenifinspang.se/evenemang/grodorna-under-finspangs-stadsfest/2025-05-30/1/
LOCATION:Förvaltningstorget\, Bergslagsvägen 13\, Finspång\, 61230
CATEGORIES:Kraften i Finspång
ATTACH;FMTTYPE=image/jpeg:https://kraftenifinspang.se/wp-content/uploads/2025/05/Grodorna-scaled.jpg
ORGANIZER;CN="Kulturhuset Finsp%C3%A5ng":MAILTO:karolina.bransell@finspang.se
END:VEVENT
BEGIN:VEVENT
DTSTART;TZID=Europe/Stockholm:20240824T130000
DTEND;TZID=Europe/Stockholm:20240824T130000
DTSTAMP:20260425T200310
CREATED:20240814T133800Z
LAST-MODIFIED:20240814T134059Z
UID:10000069-1724504400-1724504400@kraftenifinspang.se
SUMMARY:Prideparad och festival
DESCRIPTION:Ett öppet Finspång för alla! \nFestivalen med musik och talare börjar kl. 13:00 på Förvaltningstorget vid kommunhuset i Finspångs centrum. Den fantastiska paraden som manifesterar ett öppet Finspång för alla avgår kl. 14. Festivalen fortsätter med tal och musik efter paraden! \nGlöm inte att hela veckan är en pridevecka som invigs genom en fotoutställning på Kulturhuset måndagen den 19 augusti. \nHåll utkik på webben: pridefinspang.se/aktuellt. \nKom och hjälp oss visa att all kärlek är bra kärlek!  \nTack till våra sponsorer: Curt Nicolin Gymnasiet\, Bergska\, XL Bygg\, Vänsterpartiet\, Socialdemokraterna\, Centerpartiet\, Liberalerna\, Totalmedia\, Kommunal\, Handels avd 16\, Sveriges Lärare\, Norrköping LS av SAC\, Finspång kommun\, Svenska Kyrkan\, Ica Hårstorp\, ABF\, Coop Finspång\, Vallonbygden\, Finspångs tekniska. \n  \nLäs mer på Facebook
URL:https://kraftenifinspang.se/evenemang/prideparad-och-festival-under-finspangs-pridevecka/
LOCATION:Förvaltningstorget\, Bergslagsvägen 13\, Finspång\, 61230
CATEGORIES:Kraften i Finspång
ATTACH;FMTTYPE=image/jpeg:https://kraftenifinspang.se/wp-content/uploads/2024/08/Pride.jpg
ORGANIZER;CN="Pride Finsp%C3%A5ng":MAILTO:pridefinspang@gmail.com
END:VEVENT
END:VCALENDAR