BEGIN:VCALENDAR
VERSION:2.0
PRODID:-//Kraften i Finspång - ECPv6.15.20//NONSGML v1.0//EN
CALSCALE:GREGORIAN
METHOD:PUBLISH
X-ORIGINAL-URL:https://kraftenifinspang.se
X-WR-CALDESC:Händelser för Kraften i Finspång
REFRESH-INTERVAL;VALUE=DURATION:PT1H
X-Robots-Tag:noindex
X-PUBLISHED-TTL:PT1H
BEGIN:VTIMEZONE
TZID:Europe/Stockholm
BEGIN:DAYLIGHT
TZOFFSETFROM:+0100
TZOFFSETTO:+0200
TZNAME:CEST
DTSTART:20250330T010000
END:DAYLIGHT
BEGIN:STANDARD
TZOFFSETFROM:+0200
TZOFFSETTO:+0100
TZNAME:CET
DTSTART:20251026T010000
END:STANDARD
BEGIN:DAYLIGHT
TZOFFSETFROM:+0100
TZOFFSETTO:+0200
TZNAME:CEST
DTSTART:20260329T010000
END:DAYLIGHT
BEGIN:STANDARD
TZOFFSETFROM:+0200
TZOFFSETTO:+0100
TZNAME:CET
DTSTART:20261025T010000
END:STANDARD
BEGIN:DAYLIGHT
TZOFFSETFROM:+0100
TZOFFSETTO:+0200
TZNAME:CEST
DTSTART:20270328T010000
END:DAYLIGHT
BEGIN:STANDARD
TZOFFSETFROM:+0200
TZOFFSETTO:+0100
TZNAME:CET
DTSTART:20271031T010000
END:STANDARD
END:VTIMEZONE
BEGIN:VEVENT
DTSTART;TZID=Europe/Stockholm:20260404T000000
DTEND;TZID=Europe/Stockholm:20260517T000000
DTSTAMP:20260425T164554
CREATED:20260309T123842Z
LAST-MODIFIED:20260311T172631Z
UID:10001395-1775260800-1778976000@kraftenifinspang.se
SUMMARY:Finding Any Thing
DESCRIPTION:Rejmyre Art Lab presenterar en utställning som berättar historien om Tillflyktspaviljongen\, den transparenta kupolbyggnad som restes bakom konsthallen 2022. Paviljongen växte fram ur Rejmyre Art Labs medgrundare Daniel Peltz långsiktiga projekt Tillflykt i Rejmyre. Projektet öppnas upp genom berättelsen om ett dyk under isen på sjön Hunn\, en liten flock arbetslösa skogsbrukselefanter från Myanmar som anländer till Rejmyre\, samt en rituell byggprocess. \nÖppettider: Onsdag & lördag 11.00-16.00 \nExtraöppet: 3-5 april\, 9-10 maj & 14-17 maj 11.00-16.00
URL:https://kraftenifinspang.se/evenemang/hitta-nagon-ting/
LOCATION:Engelska Magasinet\, Glasbruksvägen 42\, Rejmyre
CATEGORIES:Kraften i Finspång
ATTACH;FMTTYPE=image/jpeg:https://kraftenifinspang.se/wp-content/uploads/2026/03/Affischbild-v-1.jpg
ORGANIZER;CN="Rejmyre Art Lab":MAILTO:info@rejmyreartlab.org
END:VEVENT
END:VCALENDAR