BEGIN:VCALENDAR
VERSION:2.0
PRODID:-//Kraften i Finspång - ECPv6.15.20//NONSGML v1.0//EN
CALSCALE:GREGORIAN
METHOD:PUBLISH
X-WR-CALNAME:Kraften i Finspång
X-ORIGINAL-URL:https://kraftenifinspang.se
X-WR-CALDESC:Händelser för Kraften i Finspång
REFRESH-INTERVAL;VALUE=DURATION:PT1H
X-Robots-Tag:noindex
X-PUBLISHED-TTL:PT1H
BEGIN:VTIMEZONE
TZID:Europe/Stockholm
BEGIN:DAYLIGHT
TZOFFSETFROM:+0100
TZOFFSETTO:+0200
TZNAME:CEST
DTSTART:20250330T010000
END:DAYLIGHT
BEGIN:STANDARD
TZOFFSETFROM:+0200
TZOFFSETTO:+0100
TZNAME:CET
DTSTART:20251026T010000
END:STANDARD
BEGIN:DAYLIGHT
TZOFFSETFROM:+0100
TZOFFSETTO:+0200
TZNAME:CEST
DTSTART:20260329T010000
END:DAYLIGHT
BEGIN:STANDARD
TZOFFSETFROM:+0200
TZOFFSETTO:+0100
TZNAME:CET
DTSTART:20261025T010000
END:STANDARD
BEGIN:DAYLIGHT
TZOFFSETFROM:+0100
TZOFFSETTO:+0200
TZNAME:CEST
DTSTART:20270328T010000
END:DAYLIGHT
BEGIN:STANDARD
TZOFFSETFROM:+0200
TZOFFSETTO:+0100
TZNAME:CET
DTSTART:20271031T010000
END:STANDARD
END:VTIMEZONE
BEGIN:VEVENT
DTSTART;TZID=Europe/Stockholm:20260527T170000
DTEND;TZID=Europe/Stockholm:20260527T210000
DTSTAMP:20260426T012040
CREATED:20260402T084003Z
LAST-MODIFIED:20260402T084044Z
UID:10001518-1779901200-1779915600@kraftenifinspang.se
SUMMARY:Gladsheim Finspångs Stadslopp
DESCRIPTION:17.00 första barnstart.\n19.00 Gladsheim Finspångs Stadslopp \nMotionsfesten Gladsheim Finspångs Stadslopp med AktivRundan och XL Bygg Lilla Slottsrundan firar 10-årsjubileum.\nSveriges härligaste småstadslopp med över 2000 deltagare och många barn med spring i benen.\nVar med och upplev gemenskapen och den fina miljön i Finspång.\nUtmed banan finns det många musikstationer för att ge den bästa peppen.\nVarmt välkomna med era anmälningar! \nPris: Gladsheim Finspångs Stadslopp: 325 kr.\nAktivRundan: 325 kr.\nXL Bygg Lilla Slottsrundan: 75 kr. \nHemsida: https://finspangsstadslopp.se/\nFacebook address: https://www.facebook.com/finspangsstadslopp/?locale=sv_SE
URL:https://kraftenifinspang.se/evenemang/gladsheim-finspangs-stadslopp-2/
LOCATION:Bruksparken\, Bruksparken\, Finspång\, 61230
CATEGORIES:Kraften i Finspång
ATTACH;FMTTYPE=image/jpeg:https://kraftenifinspang.se/wp-content/uploads/2026/04/69cce06899bb7.jpg
END:VEVENT
BEGIN:VEVENT
DTSTART;TZID=Europe/Stockholm:20260606T103000
DTEND;TZID=Europe/Stockholm:20260606T120000
DTSTAMP:20260426T012040
CREATED:20260423T103010Z
LAST-MODIFIED:20260423T103010Z
UID:10001544-1780741800-1780747200@kraftenifinspang.se
SUMMARY:Nationaldagen i Bruksparken - teckenspråktolkas
DESCRIPTION:Välkommen till årets nationaldagsfirande i Bruksparken! \nÅrets nationaldagstalare är Magnus Samuelsson\, känd som världens starkaste man. \nDet blir musik av Jazzkapellet och STAL-kören och flaggutdelning. Vi uppmärksammar ungdomar som tagit medalj samt nya svenska medborgare. \nFinspångs motorsällskap bjuder på fika! \nGratis ballongdjur till barnen! \nHela programmet tolkas till teckenspråk. \nFri entré!
URL:https://kraftenifinspang.se/evenemang/nationaldagen-i-bruksparken-teckenspraktolkas/
LOCATION:Bruksparken\, Bruksparken\, Finspång\, 61230
CATEGORIES:Kraften i Finspång
ATTACH;FMTTYPE=image/jpeg:https://kraftenifinspang.se/wp-content/uploads/2026/04/Svensk-flagga.jpg
END:VEVENT
END:VCALENDAR