BEGIN:VCALENDAR
VERSION:2.0
PRODID:-//Kraften i Finspång - ECPv6.15.20//NONSGML v1.0//EN
CALSCALE:GREGORIAN
METHOD:PUBLISH
X-WR-CALNAME:Kraften i Finspång
X-ORIGINAL-URL:https://kraftenifinspang.se
X-WR-CALDESC:Händelser för Kraften i Finspång
REFRESH-INTERVAL;VALUE=DURATION:PT1H
X-Robots-Tag:noindex
X-PUBLISHED-TTL:PT1H
BEGIN:VTIMEZONE
TZID:Europe/Stockholm
BEGIN:DAYLIGHT
TZOFFSETFROM:+0100
TZOFFSETTO:+0200
TZNAME:CEST
DTSTART:20230326T010000
END:DAYLIGHT
BEGIN:STANDARD
TZOFFSETFROM:+0200
TZOFFSETTO:+0100
TZNAME:CET
DTSTART:20231029T010000
END:STANDARD
BEGIN:DAYLIGHT
TZOFFSETFROM:+0100
TZOFFSETTO:+0200
TZNAME:CEST
DTSTART:20240331T010000
END:DAYLIGHT
BEGIN:STANDARD
TZOFFSETFROM:+0200
TZOFFSETTO:+0100
TZNAME:CET
DTSTART:20241027T010000
END:STANDARD
BEGIN:DAYLIGHT
TZOFFSETFROM:+0100
TZOFFSETTO:+0200
TZNAME:CEST
DTSTART:20250330T010000
END:DAYLIGHT
BEGIN:STANDARD
TZOFFSETFROM:+0200
TZOFFSETTO:+0100
TZNAME:CET
DTSTART:20251026T010000
END:STANDARD
BEGIN:DAYLIGHT
TZOFFSETFROM:+0100
TZOFFSETTO:+0200
TZNAME:CEST
DTSTART:20260329T010000
END:DAYLIGHT
BEGIN:STANDARD
TZOFFSETFROM:+0200
TZOFFSETTO:+0100
TZNAME:CET
DTSTART:20261025T010000
END:STANDARD
END:VTIMEZONE
BEGIN:VEVENT
DTSTART;TZID=Europe/Stockholm:20250628T110000
DTEND;TZID=Europe/Stockholm:20250628T163000
DTSTAMP:20260426T031832
CREATED:20250528T060741Z
LAST-MODIFIED:20250528T060741Z
UID:10000926-1751108400-1751128200@kraftenifinspang.se
SUMMARY:Bilutställning i Bruksparken
DESCRIPTION:Rockabilly Cruisers i Finspång anordnar den årliga bilutställningen i Bruksparken i Finspång. \nKom och ställ ut din bil/motorcykel/EPA eller gå omkring i parken och titta på alla fina fordon. Du kan också rösta på din favorit. Fina priser för ”People’s choice” i kategorierna bil\, MC och EPA.\nInsläpp av utställare från kl 10:30. \nOBS! Endast kontanter i kiosken och vid utställarnas insläpp!\nPrisinformation: Fri entré för besökare! Utställare betalar 50kr.
URL:https://kraftenifinspang.se/evenemang/bilutstallning-i-bruksparken/
LOCATION:Bruksparken\, Bruksparken\, Finspång\, 61230
CATEGORIES:Kraften i Finspång
ATTACH;FMTTYPE=image/jpeg:https://kraftenifinspang.se/wp-content/uploads/2025/05/68360cfc39cd5-1-e1748412454240.jpg
END:VEVENT
BEGIN:VEVENT
DTSTART;TZID=Europe/Stockholm:20250606T103000
DTEND;TZID=Europe/Stockholm:20250606T120000
DTSTAMP:20260426T031832
CREATED:20250414T062923Z
LAST-MODIFIED:20250506T110717Z
UID:10000811-1749205800-1749211200@kraftenifinspang.se
SUMMARY:Nationaldagsfirande i Bruksparken
DESCRIPTION:Välkommen att fira nationaldagen i Bruksparken! \nÅrets nationaldagstalare är Lotta Schelin\, en av Sveriges mest framstående fotbollsspelare som har nått stora framgångar både internationellt och i klubblag\, inklusive OS-silver och VM-brons. Utöver sina sportsliga prestationer engagerar hon sig i frågor om hållbart ledarskap\, inkludering och jämställdhet\, vilket hon delar med sig av. \nFinspångs musikkår och STAL-kören står för musiken och Finspångs motorsällskap bjuder på fika.\nGratis ansiktsmålning för barnen! \nDessutom delar vi ut svenska flaggor samt uppmärksammar ungdomar som tagit medalj och nya svenska medborgare.
URL:https://kraftenifinspang.se/evenemang/nationaldagsfirande-i-bruksparken/
LOCATION:Bruksparken\, Bruksparken\, Finspång\, 61230
CATEGORIES:Kraften i Finspång
ATTACH;FMTTYPE=image/jpeg:https://kraftenifinspang.se/wp-content/uploads/2025/04/Lotta_Schelin-scaled-e1744612214927.jpeg
END:VEVENT
BEGIN:VEVENT
DTSTART;TZID=Europe/Stockholm:20250603T070000
DTEND;TZID=Europe/Stockholm:20250603T090000
DTSTAMP:20260426T031832
CREATED:20250523T134314Z
LAST-MODIFIED:20250523T134314Z
UID:10000924-1748934000-1748941200@kraftenifinspang.se
SUMMARY:Teamträning med Get Prepared
DESCRIPTION:Träningsnätvärket är ett koncept som drivs av XLENT i Östergötland – där vi under avslappnade (och ibland svettiga) former får möjlighet att träffa nya människor och nätverka samtidigt som vi aktiverar oss. \nTräning och hälsa är viktigt för oss. Vi värdesätter också att få umgås med varandra och andra under lättsamma former och kring gemensamma intressen. Vi vill samtidigt visa och berätta om vilka vi på XLENT är och ge dig möjligheten att berätta för andra om dig själv och det företag du arbetar på. \nAnmälan via: Träningsnätvärket – Teamträning med Get Prepared 3/6 (Finspång)
URL:https://kraftenifinspang.se/evenemang/teamtraning-med-get-prepared/
LOCATION:Bruksparken\, Bruksparken\, Finspång\, 61230
CATEGORIES:Kraften i Finspång
ATTACH;FMTTYPE=image/png:https://kraftenifinspang.se/wp-content/uploads/2025/05/traning.png
ORGANIZER;CN="XLENT":MAILTO:anders.lothigius@xlent.se
END:VEVENT
BEGIN:VEVENT
DTSTART;TZID=Europe/Stockholm:20250528T190000
DTEND;TZID=Europe/Stockholm:20250528T190000
DTSTAMP:20260426T031832
CREATED:20250417T081028Z
LAST-MODIFIED:20250417T081106Z
UID:10000821-1748458800-1748458800@kraftenifinspang.se
SUMMARY:Gladsheim Finspångs Stadslopp
DESCRIPTION:Motionsfesten Gladsheim Finspångs Stadslopp med AktivRundan och XL Bygg Lilla Slottsrundan. \nCirka 2000 deltagare totalt i alla loppen gör Gladsheim Finspångs Stadslopp till det årligen största motionseventet i Finspångs kommun. Centrala Finspång fylls av gångare\, joggare och löpare\, musik och massor med publik. Alla barn kutar i XL Bygg Lilla Slottsrundan. \nAnmälningsavgift: Gladsheim Finspångs Stadslopp och Aktivrundan: 295 kronor. XL Bygg Lilla Slottsrundan: 75 kronor. Gratis anmälan för alla kommunanställda.
URL:https://kraftenifinspang.se/evenemang/gladsheim-finspangs-stadslopp/
LOCATION:Bruksparken\, Bruksparken\, Finspång\, 61230
CATEGORIES:Kraften i Finspång
ATTACH;FMTTYPE=image/jpeg:https://kraftenifinspang.se/wp-content/uploads/2025/04/6800b4e2c5060.jpg
END:VEVENT
BEGIN:VEVENT
DTSTART;TZID=Europe/Stockholm:20250514T180000
DTEND;TZID=Europe/Stockholm:20250514T180000
DTSTAMP:20260426T031832
CREATED:20250331T160842Z
LAST-MODIFIED:20250331T160842Z
UID:10000793-1747245600-1747245600@kraftenifinspang.se
SUMMARY:Dansföreställning: Oas
DESCRIPTION:Oas är en dansföreställning i och om stadens gröna rum – parker och stadsträdgårdar. Föreställningen lyfter tankar om\, och personliga relationer till\, parker. En sinnlig upplevelse där du som publik får följa med på en promenad genom parken och erfara den på ett nytt sätt. \nSamling: Bruksparken\, vid vattenleken\nFri entré!\nIdé\, koreografi och dans: Matilda Larsson och Åse Wallberg.Musiken är specialskriven av Johan Nilsson.Föreställningen produceras av Danskollektivet Ronny med stöd från Region Östergötland. \n 
URL:https://kraftenifinspang.se/evenemang/dansforestallning-oas/
LOCATION:Bruksparken\, Bruksparken\, Finspång\, 61230
CATEGORIES:Kraften i Finspång
ATTACH;FMTTYPE=image/png:https://kraftenifinspang.se/wp-content/uploads/2025/03/Oas-framsida-e1743437308774.png
ORGANIZER;CN="Kulturhuset Finsp%C3%A5ng":MAILTO:karolina.bransell@finspang.se
END:VEVENT
BEGIN:VEVENT
DTSTART;TZID=Europe/Stockholm:20241001T170000
DTEND;TZID=Europe/Stockholm:20241001T180000
DTSTAMP:20260426T031832
CREATED:20240924T071743Z
LAST-MODIFIED:20240924T071743Z
UID:10000473-1727802000-1727805600@kraftenifinspang.se
SUMMARY:Gå eller spring för Världens Barn
DESCRIPTION:Ett lopp på ca 700 meter där barn\, vuxna\, hundar\, personer med rullatorer eller rullstolar kan delta.\nPrisinformation: Startavgiften är valfritt belopp där hela intäkten går direkt till Radiohjälpens insamling för Världens barn. \n20 kronor räcker till en middag åt en hel familj i Kenya.\n50 kronor kan bli fem par strumpor till ett barn i Ukraina.\nFler projekt finns i Afghanistan\, Gaza\, Kongo m fl.
URL:https://kraftenifinspang.se/evenemang/ga-eller-spring-for-varldens-barn/
LOCATION:Bruksparken\, Bruksparken\, Finspång\, 61230
CATEGORIES:Kraften i Finspång
ATTACH;FMTTYPE=image/jpeg:https://kraftenifinspang.se/wp-content/uploads/2024/09/66f1b09a4e9d0.jpg
ORGANIZER;CN="Barn och fritidsprogrammet p%C3%A5 Bergska gymnasiet":MAILTO:anna.hellerstedt@finspang.se
END:VEVENT
END:VCALENDAR