BEGIN:VCALENDAR
VERSION:2.0
PRODID:-//Kraften i Finspång - ECPv6.15.18//NONSGML v1.0//EN
CALSCALE:GREGORIAN
METHOD:PUBLISH
X-WR-CALNAME:Kraften i Finspång
X-ORIGINAL-URL:https://kraftenifinspang.se
X-WR-CALDESC:Händelser för Kraften i Finspång
REFRESH-INTERVAL;VALUE=DURATION:PT1H
X-Robots-Tag:noindex
X-PUBLISHED-TTL:PT1H
BEGIN:VTIMEZONE
TZID:Europe/Stockholm
BEGIN:DAYLIGHT
TZOFFSETFROM:+0100
TZOFFSETTO:+0200
TZNAME:CEST
DTSTART:20250330T010000
END:DAYLIGHT
BEGIN:STANDARD
TZOFFSETFROM:+0200
TZOFFSETTO:+0100
TZNAME:CET
DTSTART:20251026T010000
END:STANDARD
BEGIN:DAYLIGHT
TZOFFSETFROM:+0100
TZOFFSETTO:+0200
TZNAME:CEST
DTSTART:20260329T010000
END:DAYLIGHT
BEGIN:STANDARD
TZOFFSETFROM:+0200
TZOFFSETTO:+0100
TZNAME:CET
DTSTART:20261025T010000
END:STANDARD
BEGIN:DAYLIGHT
TZOFFSETFROM:+0100
TZOFFSETTO:+0200
TZNAME:CEST
DTSTART:20270328T010000
END:DAYLIGHT
BEGIN:STANDARD
TZOFFSETFROM:+0200
TZOFFSETTO:+0100
TZNAME:CET
DTSTART:20271031T010000
END:STANDARD
END:VTIMEZONE
BEGIN:VEVENT
DTSTART;TZID=Europe/Stockholm:20260413T180000
DTEND;TZID=Europe/Stockholm:20260413T193000
DTSTAMP:20260420T141717
CREATED:20260326T130348Z
LAST-MODIFIED:20260326T130348Z
UID:10001517-1776103200-1776108600@kraftenifinspang.se
SUMMARY:Föreläsning om Solel\, laddboxar och AI-styrda batterier
DESCRIPTION:Välkommen att lyssna på Lars Andrén\, en av Sveriges mest anlitade föreläsare på tema solenergi och energilagring. Lars kommer att informera om det senaste inom solel och batterier samt vad som är viktigt att tänka på inför en investering. Reda ut och förklara vad EU:s nya EPBD-direktiv\, med krav på solpaneler\, innebär – både för solbranschen och för fastighetsägare.\nModerator för kvällen är Henrik Widgren\, kommunal energi‑ och klimatrådgivare. \nFöreläsningen riktar sig till\nVillaägare\, studerande\, mindre bostadsrättföreningar\, lantbruk och alla som vill veta mer om solel.
URL:https://kraftenifinspang.se/evenemang/forelasning-om-solel-laddboxar-och-ai-styrda-batterier/
LOCATION:Bildningen\, matsalen\, Finnvedsvägen 4\, Finspång\, 61230
CATEGORIES:Kraften i Finspång
ATTACH;FMTTYPE=image/png:https://kraftenifinspang.se/wp-content/uploads/2026/03/69c52d1339ccc.png
ORGANIZER;CN="Finsp%C3%A5ng kommun Energi- och klimatr%C3%A5dgivningen":MAILTO:energiradgivning@finspang.se
END:VEVENT
END:VCALENDAR