BEGIN:VCALENDAR
VERSION:2.0
PRODID:-//Kraften i Finspång - ECPv6.15.18//NONSGML v1.0//EN
CALSCALE:GREGORIAN
METHOD:PUBLISH
X-ORIGINAL-URL:https://kraftenifinspang.se
X-WR-CALDESC:Händelser för Kraften i Finspång
REFRESH-INTERVAL;VALUE=DURATION:PT1H
X-Robots-Tag:noindex
X-PUBLISHED-TTL:PT1H
BEGIN:VTIMEZONE
TZID:Europe/Stockholm
BEGIN:DAYLIGHT
TZOFFSETFROM:+0100
TZOFFSETTO:+0200
TZNAME:CEST
DTSTART:20230326T010000
END:DAYLIGHT
BEGIN:STANDARD
TZOFFSETFROM:+0200
TZOFFSETTO:+0100
TZNAME:CET
DTSTART:20231029T010000
END:STANDARD
BEGIN:DAYLIGHT
TZOFFSETFROM:+0100
TZOFFSETTO:+0200
TZNAME:CEST
DTSTART:20240331T010000
END:DAYLIGHT
BEGIN:STANDARD
TZOFFSETFROM:+0200
TZOFFSETTO:+0100
TZNAME:CET
DTSTART:20241027T010000
END:STANDARD
BEGIN:DAYLIGHT
TZOFFSETFROM:+0100
TZOFFSETTO:+0200
TZNAME:CEST
DTSTART:20250330T010000
END:DAYLIGHT
BEGIN:STANDARD
TZOFFSETFROM:+0200
TZOFFSETTO:+0100
TZNAME:CET
DTSTART:20251026T010000
END:STANDARD
BEGIN:DAYLIGHT
TZOFFSETFROM:+0100
TZOFFSETTO:+0200
TZNAME:CEST
DTSTART:20260329T010000
END:DAYLIGHT
BEGIN:STANDARD
TZOFFSETFROM:+0200
TZOFFSETTO:+0100
TZNAME:CET
DTSTART:20261025T010000
END:STANDARD
END:VTIMEZONE
BEGIN:VEVENT
DTSTART;TZID=Europe/Stockholm:20251122T100000
DTEND;TZID=Europe/Stockholm:20251122T140000
DTSTAMP:20260419T213416
CREATED:20251103T062553Z
LAST-MODIFIED:20251103T062553Z
UID:10001167-1763805600-1763820000@kraftenifinspang.se
SUMMARY:Julmarknad i Betel
DESCRIPTION:En mysig marknad inomhus och utomhus. Lokalt hantverk som lammskinn\, stickat\, träslöjd\, julkransar\, honung\, äppelmust och hembakat bröd. I kafét finns god fika och här kan du njuta av årets första julskinkmacka. \nFör underhållningen står bygdekören/Skedevi och Rejmyre kyrkokör som bjuder på kulkonsert. Utomhus serveras glögg och grillad korv. \nVälkomna!
URL:https://kraftenifinspang.se/evenemang/julmarknad-i-betel-2/
LOCATION:Betel Igelfors\, Regnavägen 17\, Igelfors\, 61295
CATEGORIES:Kraften i Finspång
ATTACH;FMTTYPE=image/jpeg:https://kraftenifinspang.se/wp-content/uploads/2025/11/69079afeb10aa-scaled.jpg
ORGANIZER;CN="Regna frikyrkof%C3%B6rsamling och Igelfors-Regna bygder%C3%A5d":MAILTO:vanjaeinarsson@hotmail.com
END:VEVENT
BEGIN:VEVENT
DTSTART;TZID=Europe/Stockholm:20241123T100000
DTEND;TZID=Europe/Stockholm:20241123T140000
DTSTAMP:20260419T213416
CREATED:20241022T104837Z
LAST-MODIFIED:20241022T104837Z
UID:10000511-1732356000-1732370400@kraftenifinspang.se
SUMMARY:Julmarknad i Betel
DESCRIPTION:En mysig och välbesökt julmarknad i Betel i Igelfors. Här hittar du småskaligt lokalt hantverk som lammskinn\, träslöjd\, stickat och virkat\, blommor\, växter och kransar\, honung och äppelmust. I kafét serveras god fika och här kan du njuta av årets första julskinkmacka. Utomhus bjuder bygderådet på grillad korv och glögg. För underhållningen står bygdekören tillsammans med Skedevi och Rejmyre kyrkokör. \nVälkomna!
URL:https://kraftenifinspang.se/evenemang/julmarknad-i-betel/
LOCATION:Betel Igelfors\, Regnavägen 17\, Igelfors\, 61295
CATEGORIES:Kraften i Finspång
ATTACH;FMTTYPE=image/jpeg:https://kraftenifinspang.se/wp-content/uploads/2024/10/67164b225d455-scaled.jpg
ORGANIZER;CN="Regna frikyrkof%C3%B6rsamling och Igelfors-Regna bygder%C3%A5d":MAILTO:vanjaeinarsson@hotmail.com
END:VEVENT
END:VCALENDAR