BEGIN:VCALENDAR
VERSION:2.0
PRODID:-//Kraften i Finspång - ECPv6.15.20//NONSGML v1.0//EN
CALSCALE:GREGORIAN
METHOD:PUBLISH
X-WR-CALNAME:Kraften i Finspång
X-ORIGINAL-URL:https://kraftenifinspang.se
X-WR-CALDESC:Händelser för Kraften i Finspång
REFRESH-INTERVAL;VALUE=DURATION:PT1H
X-Robots-Tag:noindex
X-PUBLISHED-TTL:PT1H
BEGIN:VTIMEZONE
TZID:Europe/Stockholm
BEGIN:DAYLIGHT
TZOFFSETFROM:+0100
TZOFFSETTO:+0200
TZNAME:CEST
DTSTART:20250330T010000
END:DAYLIGHT
BEGIN:STANDARD
TZOFFSETFROM:+0200
TZOFFSETTO:+0100
TZNAME:CET
DTSTART:20251026T010000
END:STANDARD
BEGIN:DAYLIGHT
TZOFFSETFROM:+0100
TZOFFSETTO:+0200
TZNAME:CEST
DTSTART:20260329T010000
END:DAYLIGHT
BEGIN:STANDARD
TZOFFSETFROM:+0200
TZOFFSETTO:+0100
TZNAME:CET
DTSTART:20261025T010000
END:STANDARD
BEGIN:DAYLIGHT
TZOFFSETFROM:+0100
TZOFFSETTO:+0200
TZNAME:CEST
DTSTART:20270328T010000
END:DAYLIGHT
BEGIN:STANDARD
TZOFFSETFROM:+0200
TZOFFSETTO:+0100
TZNAME:CET
DTSTART:20271031T010000
END:STANDARD
END:VTIMEZONE
BEGIN:VEVENT
DTSTART;TZID=Europe/Stockholm:20260607T170000
DTEND;TZID=Europe/Stockholm:20260607T174500
DTSTAMP:20260426T062347
CREATED:20260313T134219Z
LAST-MODIFIED:20260313T135943Z
UID:10001418-1780851600-1780854300@kraftenifinspang.se
SUMMARY:Guidning: Kvinnorna på Finspångs slott
DESCRIPTION:Är du nyfiken på kvinnorna som bott på Finspångs slott? Under ca 45 minuter får du lära känna Aurora\,hennes barn och barnbarn\, dåtidens influensers. \nSöndag 7 juni 17:00\nSöndag 14 juni 17:00\nSöndag 28 juni 17:00\nSöndag 5 juli 17:00 \nGuide: Anna Hellerstedt \nBiljetter: 70:- på www.tickster.com eller Kulturhuset\nSamling: Vid Auroratemplet
URL:https://kraftenifinspang.se/evenemang/guidning-kvinnorna-pa-finspangs-slott-3/2026-06-07/
LOCATION:Auroratemplet\, Slottsparken\, Finspång\, 612 31
CATEGORIES:Kraften i Finspång
ATTACH;FMTTYPE=image/jpeg:https://kraftenifinspang.se/wp-content/uploads/2026/03/auroratemplet3-1-scaled-e1773409333308.jpg
ORGANIZER;CN="Kulturhuset Finsp%C3%A5ng":MAILTO:karolina.bransell@finspang.se
END:VEVENT
BEGIN:VEVENT
DTSTART;TZID=Europe/Stockholm:20260614T170000
DTEND;TZID=Europe/Stockholm:20260614T174500
DTSTAMP:20260426T062347
CREATED:20260313T134219Z
LAST-MODIFIED:20260313T135943Z
UID:10001419-1781456400-1781459100@kraftenifinspang.se
SUMMARY:Guidning: Kvinnorna på Finspångs slott
DESCRIPTION:Är du nyfiken på kvinnorna som bott på Finspångs slott? Under ca 45 minuter får du lära känna Aurora\,hennes barn och barnbarn\, dåtidens influensers. \nSöndag 7 juni 17:00\nSöndag 14 juni 17:00\nSöndag 28 juni 17:00\nSöndag 5 juli 17:00 \nGuide: Anna Hellerstedt \nBiljetter: 70:- på www.tickster.com eller Kulturhuset\nSamling: Vid Auroratemplet
URL:https://kraftenifinspang.se/evenemang/guidning-kvinnorna-pa-finspangs-slott-3/2026-06-14/
LOCATION:Auroratemplet\, Slottsparken\, Finspång\, 612 31
CATEGORIES:Kraften i Finspång
ATTACH;FMTTYPE=image/jpeg:https://kraftenifinspang.se/wp-content/uploads/2026/03/auroratemplet3-1-scaled-e1773409333308.jpg
ORGANIZER;CN="Kulturhuset Finsp%C3%A5ng":MAILTO:karolina.bransell@finspang.se
END:VEVENT
BEGIN:VEVENT
DTSTART;TZID=Europe/Stockholm:20260628T170000
DTEND;TZID=Europe/Stockholm:20260628T174500
DTSTAMP:20260426T062347
CREATED:20260313T134219Z
LAST-MODIFIED:20260313T135943Z
UID:10001420-1782666000-1782668700@kraftenifinspang.se
SUMMARY:Guidning: Kvinnorna på Finspångs slott
DESCRIPTION:Är du nyfiken på kvinnorna som bott på Finspångs slott? Under ca 45 minuter får du lära känna Aurora\,hennes barn och barnbarn\, dåtidens influensers. \nSöndag 7 juni 17:00\nSöndag 14 juni 17:00\nSöndag 28 juni 17:00\nSöndag 5 juli 17:00 \nGuide: Anna Hellerstedt \nBiljetter: 70:- på www.tickster.com eller Kulturhuset\nSamling: Vid Auroratemplet
URL:https://kraftenifinspang.se/evenemang/guidning-kvinnorna-pa-finspangs-slott-3/2026-06-28/
LOCATION:Auroratemplet\, Slottsparken\, Finspång\, 612 31
CATEGORIES:Kraften i Finspång
ATTACH;FMTTYPE=image/jpeg:https://kraftenifinspang.se/wp-content/uploads/2026/03/auroratemplet3-1-scaled-e1773409333308.jpg
ORGANIZER;CN="Kulturhuset Finsp%C3%A5ng":MAILTO:karolina.bransell@finspang.se
END:VEVENT
BEGIN:VEVENT
DTSTART;TZID=Europe/Stockholm:20260705T170000
DTEND;TZID=Europe/Stockholm:20260705T174500
DTSTAMP:20260426T062347
CREATED:20260313T134219Z
LAST-MODIFIED:20260313T135943Z
UID:10001421-1783270800-1783273500@kraftenifinspang.se
SUMMARY:Guidning: Kvinnorna på Finspångs slott
DESCRIPTION:Är du nyfiken på kvinnorna som bott på Finspångs slott? Under ca 45 minuter får du lära känna Aurora\,hennes barn och barnbarn\, dåtidens influensers. \nSöndag 7 juni 17:00\nSöndag 14 juni 17:00\nSöndag 28 juni 17:00\nSöndag 5 juli 17:00 \nGuide: Anna Hellerstedt \nBiljetter: 70:- på www.tickster.com eller Kulturhuset\nSamling: Vid Auroratemplet
URL:https://kraftenifinspang.se/evenemang/guidning-kvinnorna-pa-finspangs-slott-3/2026-07-05/
LOCATION:Auroratemplet\, Slottsparken\, Finspång\, 612 31
CATEGORIES:Kraften i Finspång
ATTACH;FMTTYPE=image/jpeg:https://kraftenifinspang.se/wp-content/uploads/2026/03/auroratemplet3-1-scaled-e1773409333308.jpg
ORGANIZER;CN="Kulturhuset Finsp%C3%A5ng":MAILTO:karolina.bransell@finspang.se
END:VEVENT
END:VCALENDAR